BEGIN:VCALENDAR
VERSION:2.0
PRODID:-//Tukios.com/
BEGIN:VEVENT
UID:bbfbe68d-2daa-481f-9a8f-979f4c9ce432@www.matthewsmortuary.com
DTSTAMP:20260423T155452Z
DTSTART:20260427T200000Z
DTEND:20260427T230000Z
SUMMARY:Visitation
DESCRIPTION:
URL:https://www.matthewsmortuary.com/obituaries/alex-h-yovanovich
LOCATION: 690 E 56th St  Brownsburg IN 46112
GEO:39.851934;-86.3838455
END:VEVENT
END:VCALENDAR