BEGIN:VCALENDAR
VERSION:2.0
PRODID:-//Tukios.com/
BEGIN:VEVENT
UID:862decd5-c914-465d-8023-9e2e0c13c191@www.matthewsmortuary.com
DTSTAMP:20260423T155416Z
DTSTART:20260428T150000Z
DTEND:20260428T160000Z
SUMMARY:Mass
DESCRIPTION:
URL:https://www.matthewsmortuary.com/obituaries/alex-h-yovanovich
LOCATION: 9833 E County Rd 750 N.   Brownsburg IN 46112
GEO:39.8720068;-86.3532842
END:VEVENT
END:VCALENDAR