BEGIN:VCALENDAR
VERSION:2.0
PRODID:-//Tukios.com/
BEGIN:VEVENT
UID:793d402f-e4c9-4515-857b-357dab6bdad5@www.matthewsmortuary.com
DTSTAMP:20260423T225850Z
DTSTART:20260504T140000Z
DTEND:20260504T160000Z
SUMMARY:Visitation
DESCRIPTION:
URL:https://www.matthewsmortuary.com/obituaries/joyce-waggoner
LOCATION:Parkside Bible Church 7950 N County Rd 650 E  Brownsburg IN 
	46112
GEO:39.8796067;-86.4119508
END:VEVENT
END:VCALENDAR