BEGIN:VCALENDAR
VERSION:2.0
PRODID:-//Tukios.com/
BEGIN:VEVENT
UID:2b4844d0-5ab0-4bb3-9d60-093f84e6b4db@www.matthewsmortuary.com
DTSTAMP:20260423T230109Z
DTSTART:20260504T160000Z
DTEND:20260504T170000Z
SUMMARY:Funeral Service
DESCRIPTION:
URL:https://www.matthewsmortuary.com/obituaries/joyce-waggoner
LOCATION: 7950 N County Rd 650 E  Brownsburg IN 46112
GEO:39.8796067;-86.4119508
END:VEVENT
END:VCALENDAR