BEGIN:VCALENDAR
VERSION:2.0
PRODID:-//Tukios.com/
BEGIN:VEVENT
UID:738a75ad-a0cc-4ef1-bc06-5849fe7133ee@www.matthewsmortuary.com
DTSTAMP:20260424T181621Z
DTSTART:20260429T163000Z
DTEND:20260429T180000Z
SUMMARY:Visitation
DESCRIPTION:
URL:https://www.matthewsmortuary.com/obituaries/mark-bill-patterson
LOCATION:Cornerstone Christian Church 8930 N SR 267  Brownsburg IN 46112
GEO:39.893137;-86.393276
END:VEVENT
END:VCALENDAR