BEGIN:VCALENDAR
VERSION:2.0
PRODID:-//Tukios.com/
BEGIN:VEVENT
UID:453be1a8-4a25-4d22-aec4-cd40b44d30a3@www.matthewsmortuary.com
DTSTAMP:20260424T182050Z
DTSTART:20260429T180000Z
DTEND:20260429T190000Z
SUMMARY:Memorial Service
DESCRIPTION:
URL:https://www.matthewsmortuary.com/obituaries/mark-bill-patterson
LOCATION: 8930 N SR 267  Brownsburg IN 46112
GEO:39.893137;-86.393276
END:VEVENT
END:VCALENDAR