BEGIN:VCALENDAR
VERSION:2.0
PRODID:-//Tukios.com/
BEGIN:VEVENT
UID:32f82ee5-8455-4bc0-8fec-0ad6c5b1330b@www.matthewsmortuary.com
DTSTAMP:20260421T193557Z
DTSTART:20260509T140000Z
DTEND:20260509T160000Z
SUMMARY:Visitation
DESCRIPTION:
URL:https://www.matthewsmortuary.com/obituaries/ronald-chubby-prchal
LOCATION: 690 E 56th St  Brownsburg IN 46112
GEO:39.851934;-86.3838455
END:VEVENT
END:VCALENDAR