BEGIN:VCALENDAR
VERSION:2.0
PRODID:-//Tukios.com/
BEGIN:VEVENT
UID:17ddaf47-e72c-4bd7-94be-25abe0cc5a6f@www.matthewsmortuary.com
DTSTAMP:20260421T193254Z
DTSTART:20260509T160000Z
DTEND:20260509T170000Z
SUMMARY:Memorial Service
DESCRIPTION:
URL:https://www.matthewsmortuary.com/obituaries/ronald-chubby-prchal
LOCATION: 690 E 56th St  Brownsburg IN 46112
GEO:39.851934;-86.3838455
END:VEVENT
END:VCALENDAR